BEGIN:VCALENDAR
VERSION:2.0
PRODID:http://www.pfarrei-losheim.de
BEGIN:VEVENT
UID:02510e3e-3ec2-11f1-a3e9-0242ac11002b-1785510000000-de
DTSTAMP:20260423T031040Z
DTSTART:20260731T150000Z
DTEND:20260731T154500Z
SUMMARY;LANGUAGE=de:Kreuzweg am Galgenberg - gestaltet von der Bruderschaft
END:VEVENT
END:VCALENDAR
