BEGIN:VCALENDAR
VERSION:2.0
PRODID:http://www.pfarrei-losheim.de
BEGIN:VEVENT
UID:441e81c7-3f8b-11f1-a3e9-0242ac11002b-1785567600000-de
DTSTAMP:20260424T031120Z
DTSTART:20260801T070000Z
DTEND:20260801T074500Z
SUMMARY;LANGUAGE=de:Hl. Messe; anschließend eucharistische Anbetung und Beichtgelegenheit
END:VEVENT
END:VCALENDAR
